BEGIN:VCALENDAR
VERSION:2.0
PRODID:-//Orange ELC - ECPv5.3.2.1//NONSGML v1.0//EN
CALSCALE:GREGORIAN
METHOD:PUBLISH
X-WR-CALNAME:Orange ELC
X-ORIGINAL-URL:https://orangeelc.com.au
X-WR-CALDESC:Events for Orange ELC
BEGIN:VTIMEZONE
TZID:Australia/Sydney
BEGIN:STANDARD
TZOFFSETFROM:+1100
TZOFFSETTO:+1000
TZNAME:AEST
DTSTART:20200404T160000
END:STANDARD
BEGIN:DAYLIGHT
TZOFFSETFROM:+1000
TZOFFSETTO:+1100
TZNAME:AEDT
DTSTART:20201003T160000
END:DAYLIGHT
END:VTIMEZONE
BEGIN:VEVENT
DTSTART;TZID=Australia/Sydney:20201008T080000
DTEND;TZID=Australia/Sydney:20201009T170000
DTSTAMP:20210228T180301
CREATED:20200526T051556Z
LAST-MODIFIED:20200526T051556Z
UID:1414-1602144000-1602262800@orangeelc.com.au
SUMMARY:Bathurst 1000
DESCRIPTION:
URL:https://orangeelc.com.au/event/bathurst-1000/
END:VEVENT
END:VCALENDAR