BEGIN:VCALENDAR
VERSION:2.0
PRODID:-//Orange ELC - ECPv5.3.2.1//NONSGML v1.0//EN
CALSCALE:GREGORIAN
METHOD:PUBLISH
X-WR-CALNAME:Orange ELC
X-ORIGINAL-URL:https://orangeelc.com.au
X-WR-CALDESC:Events for Orange ELC
BEGIN:VTIMEZONE
TZID:Australia/Sydney
BEGIN:STANDARD
TZOFFSETFROM:+1100
TZOFFSETTO:+1000
TZNAME:AEST
DTSTART:20200404T160000
END:STANDARD
BEGIN:DAYLIGHT
TZOFFSETFROM:+1000
TZOFFSETTO:+1100
TZNAME:AEDT
DTSTART:20201003T160000
END:DAYLIGHT
END:VTIMEZONE
BEGIN:VEVENT
DTSTART;TZID=Australia/Sydney:20201102T080000
DTEND;TZID=Australia/Sydney:20201102T170000
DTSTAMP:20210228T175440
CREATED:20201102T011505Z
LAST-MODIFIED:20201102T011505Z
UID:1667-1604304000-1604336400@orangeelc.com.au
SUMMARY:Halloween
DESCRIPTION:Halloween activities include trick-or-treating (or the related guising and souling)\, attending Halloween costume parties\, carving pumpkins into jack-o’-lanterns\, lighting bonfires\, apple bobbing\, divination games\, playing pranks\, visiting haunted attractions\, telling scary stories\, as well as watching horror films. In many parts of the world\, the Christian religious observances of All Hallows’ Eve\, including attending church services and lighting candles on the graves of the dead\, remain popular\, although elsewhere it is a more commercial and secular celebration. Some Christians historically abstained from meat on All Hallows’ Eve\, a tradition reflected in the eating of certain vegetarian foods on this vigil day\, including apples\, potato pancakes\, and soul cakes. \nWe encourage everyone to wear spooky outfits!!!
URL:https://orangeelc.com.au/event/halloween-2/
END:VEVENT
END:VCALENDAR