BEGIN:VCALENDAR
VERSION:2.0
PRODID:-//Orange ELC - ECPv5.3.2.1//NONSGML v1.0//EN
CALSCALE:GREGORIAN
METHOD:PUBLISH
X-WR-CALNAME:Orange ELC
X-ORIGINAL-URL:https://orangeelc.com.au
X-WR-CALDESC:Events for Orange ELC
BEGIN:VTIMEZONE
TZID:Australia/Sydney
BEGIN:STANDARD
TZOFFSETFROM:+1100
TZOFFSETTO:+1000
TZNAME:AEST
DTSTART:20210403T160000
END:STANDARD
BEGIN:DAYLIGHT
TZOFFSETFROM:+1000
TZOFFSETTO:+1100
TZNAME:AEDT
DTSTART:20211002T160000
END:DAYLIGHT
END:VTIMEZONE
BEGIN:VEVENT
DTSTART;VALUE=DATE:20210519
DTEND;VALUE=DATE:20210520
DTSTAMP:20210228T175950
CREATED:20201030T044134Z
LAST-MODIFIED:20201030T044134Z
UID:1575-1621382400-1621468799@orangeelc.com.au
SUMMARY:SES WOW Day
DESCRIPTION:Here’s to all the volunteers across Australia who work all year round to protect us at our most vulnerable. Whatever the challenges we might face\, bushfires\, floods\, storms and a global pandemic. We thank you for saving lives and protecting communities. \nWe encourage everyone to wear orange!!!
URL:https://orangeelc.com.au/event/ses-wow-day/
LOCATION:Orange ELC\, 19 William Maker Drive\, Orange\, NSW\, 2800\, Australia
END:VEVENT
END:VCALENDAR