BEGIN:VCALENDAR
VERSION:2.0
PRODID:-//Orange ELC - ECPv5.3.2.1//NONSGML v1.0//EN
CALSCALE:GREGORIAN
METHOD:PUBLISH
X-WR-CALNAME:Orange ELC
X-ORIGINAL-URL:https://orangeelc.com.au
X-WR-CALDESC:Events for Orange ELC
BEGIN:VTIMEZONE
TZID:Australia/Sydney
BEGIN:STANDARD
TZOFFSETFROM:+1100
TZOFFSETTO:+1000
TZNAME:AEST
DTSTART:20210403T160000
END:STANDARD
BEGIN:DAYLIGHT
TZOFFSETFROM:+1000
TZOFFSETTO:+1100
TZNAME:AEDT
DTSTART:20211002T160000
END:DAYLIGHT
END:VTIMEZONE
BEGIN:VEVENT
DTSTART;VALUE=DATE:20210504
DTEND;VALUE=DATE:20210505
DTSTAMP:20210228T175919
CREATED:20201030T042444Z
LAST-MODIFIED:20201030T042444Z
UID:1566-1620086400-1620172799@orangeelc.com.au
SUMMARY:World Asthma Day
DESCRIPTION:World Asthma Day is an annual event organized by the Global Initiative for Asthma (GINA) to improve asthma awareness and care around the world. \nWe encourage everyone to wear their pyjamas!!!
URL:https://orangeelc.com.au/event/world-asthma-day-2/
LOCATION:Orange ELC\, 19 William Maker Drive\, Orange\, NSW\, 2800\, Australia
END:VEVENT
END:VCALENDAR