BEGIN:VCALENDAR
VERSION:2.0
PRODID:-//Orange ELC - ECPv5.3.2.1//NONSGML v1.0//EN
CALSCALE:GREGORIAN
METHOD:PUBLISH
X-WR-CALNAME:Orange ELC
X-ORIGINAL-URL:https://orangeelc.com.au
X-WR-CALDESC:Events for Orange ELC
BEGIN:VTIMEZONE
TZID:Australia/Sydney
BEGIN:STANDARD
TZOFFSETFROM:+1100
TZOFFSETTO:+1000
TZNAME:AEST
DTSTART:20210403T160000
END:STANDARD
BEGIN:DAYLIGHT
TZOFFSETFROM:+1000
TZOFFSETTO:+1100
TZNAME:AEDT
DTSTART:20211002T160000
END:DAYLIGHT
END:VTIMEZONE
BEGIN:VEVENT
DTSTART;TZID=Australia/Sydney:20210604T070000
DTEND;TZID=Australia/Sydney:20210604T180000
DTSTAMP:20210228T180022
CREATED:20201030T045455Z
LAST-MODIFIED:20201030T045455Z
UID:1584-1622790000-1622829600@orangeelc.com.au
SUMMARY:World Environment Day
DESCRIPTION:World Environment Day is the United Nations day for encouraging worldwide awareness and action to protect our environment. \nWe encourage everyone to wear green!!!
URL:https://orangeelc.com.au/event/world-environment-day-3/
LOCATION:Orange ELC\, 19 William Maker Drive\, Orange\, NSW\, 2800\, Australia
END:VEVENT
END:VCALENDAR